BEGIN:VCALENDAR
VERSION:2.0
PRODID:-//Crear Compartir - ECPv6.15.20//NONSGML v1.0//EN
CALSCALE:GREGORIAN
METHOD:PUBLISH
X-ORIGINAL-URL:https://crearcompartir.com/wordpress
X-WR-CALDESC:Eventos para Crear Compartir
REFRESH-INTERVAL;VALUE=DURATION:PT1H
X-Robots-Tag:noindex
X-PUBLISHED-TTL:PT1H
BEGIN:VTIMEZONE
TZID:Europe/Helsinki
BEGIN:DAYLIGHT
TZOFFSETFROM:+0200
TZOFFSETTO:+0300
TZNAME:EEST
DTSTART:20230326T010000
END:DAYLIGHT
BEGIN:STANDARD
TZOFFSETFROM:+0300
TZOFFSETTO:+0200
TZNAME:EET
DTSTART:20231029T010000
END:STANDARD
BEGIN:DAYLIGHT
TZOFFSETFROM:+0200
TZOFFSETTO:+0300
TZNAME:EEST
DTSTART:20240331T010000
END:DAYLIGHT
BEGIN:STANDARD
TZOFFSETFROM:+0300
TZOFFSETTO:+0200
TZNAME:EET
DTSTART:20241027T010000
END:STANDARD
BEGIN:DAYLIGHT
TZOFFSETFROM:+0200
TZOFFSETTO:+0300
TZNAME:EEST
DTSTART:20250330T010000
END:DAYLIGHT
BEGIN:STANDARD
TZOFFSETFROM:+0300
TZOFFSETTO:+0200
TZNAME:EET
DTSTART:20251026T010000
END:STANDARD
END:VTIMEZONE
BEGIN:VEVENT
DTSTART;TZID=Europe/Helsinki:20241213T190000
DTEND;TZID=Europe/Helsinki:20241213T203000
DTSTAMP:20260422T145515
CREATED:20241213T091143Z
LAST-MODIFIED:20241213T091143Z
UID:756-1734116400-1734121800@crearcompartir.com
SUMMARY:Cuencos Tibetanos + Yoga Nidra con Raquel Márquez
DESCRIPTION:Empieza el fin de semana con Calma y Harmonía realizando una sesión de Cuencos Tibetanos y Yoga Nidra con Raquel Márquez.\n\n\n\nEl Yoga Nidra NO és una práctica física\, es una meditación guiada que junto al sonido de los cuencos tibetanos te llevará a una experiencia mágica.\n\nUn viaje hacia nuestro interior para soltar aquello que ya no nos hace falta y dar espacio a lo nuevo que está por llegar!\n\n\n\nRaquel Márquez realiza cada miércoles a las 19.15h las sesiones de KALMA\, unos espacios en los que conectamos con nuestro interior y conseguimos un estado de relajación profunda gracias a la respiración consciente y a unos movimientos suaves que nos ayudan a mejorar la salud y nuestro equilibrio físico y emocional.\n\n\n\nNo te pierdas esta experiencia única y llena de buenas vibraciones.\n\n\nEntrada individual: 12€\nPromoción especial: 2 entradas 10€\n\nReservas al 640 06 05 20
URL:https://crearcompartir.com/wordpress/agenda/cuencos-tibetanos-yoga-nidra-con-raquel-marquez/
LOCATION:ENCUENTRO\, C/ Casamada\, 12\, Abrera\, Barcelona\, 08630\, España
ATTACH;FMTTYPE=image/jpeg:https://crearcompartir.com/wordpress/wp-content/uploads/2024/12/Marquez_web.jpg
END:VEVENT
END:VCALENDAR